BEGIN:VCALENDAR
VERSION:2.0
PRODID:-//GEA - Asociación de Voluntariado - ECPv6.15.11//NONSGML v1.0//EN
CALSCALE:GREGORIAN
METHOD:PUBLISH
X-WR-CALNAME:GEA - Asociación de Voluntariado
X-ORIGINAL-URL:https://www.geaesp.org
X-WR-CALDESC:Eventos para GEA - Asociación de Voluntariado
REFRESH-INTERVAL;VALUE=DURATION:PT1H
X-Robots-Tag:noindex
X-PUBLISHED-TTL:PT1H
BEGIN:VTIMEZONE
TZID:Europe/Madrid
BEGIN:DAYLIGHT
TZOFFSETFROM:+0100
TZOFFSETTO:+0200
TZNAME:CEST
DTSTART:20230326T010000
END:DAYLIGHT
BEGIN:STANDARD
TZOFFSETFROM:+0200
TZOFFSETTO:+0100
TZNAME:CET
DTSTART:20231029T010000
END:STANDARD
BEGIN:DAYLIGHT
TZOFFSETFROM:+0100
TZOFFSETTO:+0200
TZNAME:CEST
DTSTART:20240331T010000
END:DAYLIGHT
BEGIN:STANDARD
TZOFFSETFROM:+0200
TZOFFSETTO:+0100
TZNAME:CET
DTSTART:20241027T010000
END:STANDARD
BEGIN:DAYLIGHT
TZOFFSETFROM:+0100
TZOFFSETTO:+0200
TZNAME:CEST
DTSTART:20250330T010000
END:DAYLIGHT
BEGIN:STANDARD
TZOFFSETFROM:+0200
TZOFFSETTO:+0100
TZNAME:CET
DTSTART:20251026T010000
END:STANDARD
END:VTIMEZONE
BEGIN:VEVENT
DTSTART;TZID=Europe/Madrid:20240420T093000
DTEND;TZID=Europe/Madrid:20240420T130000
DTSTAMP:20260424T052956
CREATED:20240407T123906Z
LAST-MODIFIED:20240410T080043Z
UID:19851-1713605400-1713618000@www.geaesp.org
SUMMARY:Celebremos el día nacional de la Madre Tierra
DESCRIPTION:¡Únete a nosotros para celebrar el Día Mundial de la Madre Tierra y hacer una diferencia palpable en nuestro entorno! El próximo sábado 20 de abril a las 09:30 horas\, te invitamos a participar en la actividad de limpieza del Cabo de Santa Pola\, en Alicante. \n \nEl Día Mundial de la Madre Tierra se celebra en todo el mundo cada 22 de abril para recordarnos la importancia de cuidar y preservar nuestro planeta. Es una oportunidad para reflexionar sobre la fragilidad de nuestro ecosistema y el impacto de nuestras acciones en el medio ambiente. \n  \nEn esta ocasión\, nos unimos a la celebración adelantada el día 20 de abril\, organizando una jornada de limpieza en el emblemático Faro de Santa Pola. Esta actividad\, organizada por Nueva Acrópolis en colaboración con GEA y el Ayuntamiento de Santa Pola\, busca promover la conciencia ambiental y fomentar la participación activa de la comunidad en la protección de nuestro entorno natural. \n  \nLa limpieza del Cabo de Santa Pola no solo contribuirá a mantener nuestro entorno limpio y seguro\, sino que también nos brindará la oportunidad de disfrutar de un día al aire libre en compañía de amigos y vecinos comprometidos con el cuidado del medio ambiente. \n  \nNo importa si eres joven o mayor\, si vienes solo o en grupo\, ¡tu ayuda es invaluable! Trae contigo tus guantes y muchas ganas de colaborar. Juntos\, podemos marcar la diferencia y demostrar nuestro amor y respeto por la Madre Tierra. Te esperamos el 20 de abril para hacer de este día una celebración significativa y gratificante para todos. ¡Nos vemos en el Aparcamiento del Faro de Santa Pola! \n  \nSe recomienda llevar guantes\, protector solar\, agua y gorra.
URL:https://www.geaesp.org/event/celebremos-el-dia-nacional-de-la-madre-tierra/
LOCATION:faro de Santa Pola Alicante\, 6F5P+RG Santa Pola
CATEGORIES:Alicante
ATTACH;FMTTYPE=image/jpeg:https://www.geaesp.org/wp-content/uploads/2024/04/Imagen-de-WhatsApp-2024-04-07-a-las-13.45.35_1e14cc82.jpg
END:VEVENT
END:VCALENDAR